BEGIN:VCALENDAR
VERSION:2.0
PRODID:-//Majestri//SmartCal//EN
BEGIN:VEVENT
UID:a36c3d02ba3e4a8aafb9b6b3bdd02784
DTSTAMP:20260425T140000Z
DTSTART:20260425T140000Z
DTEND:20260425T140000Z
SUMMARY:Mini-Roos (INDICATIVE) Round 1
DESCRIPTION:Subject to change by Football West
END:VEVENT
BEGIN:VEVENT
UID:1573824611754eb587417ffaff658773
DTSTAMP:20260425T140000Z
DTSTART:20260425T140000Z
DTEND:20260425T140000Z
SUMMARY:Juniors (INDICATIVE) Round 1
DESCRIPTION:Subject to change by Football West
END:VEVENT
BEGIN:VEVENT
UID:662719caae75463d99b2ea134aa00cdd
DTSTAMP:20260425T140000Z
DTSTART:20260425T140000Z
DTEND:20260425T140000Z
SUMMARY:Men's Metro Cup (INDICATIVE) Prelim Round
DESCRIPTION:Subject to change by Football West
END:VEVENT
END:VCALENDAR
